BEGIN:VCALENDAR
VERSION:2.0
PRODID:-//Contratero//ES
CALSCALE:GREGORIAN
METHOD:PUBLISH
BEGIN:VEVENT
UID:EA25 012@contratero.es
DTSTAMP:20260423T000410Z
DTSTART:20251226T235959
DTEND:20251227T005959
SUMMARY:Cierre: Contratación de Suministro de Sistema de gestión r
DESCRIPTION:Contratación de Suministro de Sistema de gestión remota N-ABLE RMM\, para Extremadura Avante\, S.L.U. y sus Sociedades Filiales\\n\\nOrganismo: Dirección General de Extremadura Avante S.L.U.\\n\\nVer en Contratero: https://contratero.es/contracts/EA25 012
URL:https://contratero.es/contracts/EA25 012
STATUS:CONFIRMED
BEGIN:VALARM
TRIGGER:-P1D
ACTION:DISPLAY
DESCRIPTION:Recordatorio: Contratación de Suministro de 
END:VALARM
END:VEVENT
END:VCALENDAR